View In:
ArcGIS JavaScript
ArcGIS Online map viewer
Google Earth
ArcMap
View Footprint In:
ArcGIS Online map viewer
Service Description: Sapelo/1942_mosaic_2
Name: Sapelo/1942_mosaic_2
Description: Sapelo/1942_mosaic_2
Single Fused Map Cache: false
Extent:
XMin: 461558.6192910351
YMin: 3462031.1144398022
XMax: 490283.6192910351
YMax: 3490745.1144398022
Spatial Reference: 26917
(26917)
Initial Extent:
XMin: 461558.6192910351
YMin: 3462031.1144398022
XMax: 490283.6192910351
YMax: 3490745.1144398022
Spatial Reference: 26917
(26917)
Full Extent:
XMin: 461558.6192910351
YMin: 3462031.1144398022
XMax: 490283.6192910351
YMax: 3490745.1144398022
Spatial Reference: 26917
(26917)
Pixel Size X: 1.0
Pixel Size Y: 1.0
Band Count: 3
Pixel Type: U8
RasterFunction Infos: {"name":"None","description":"","help":""}
Mensuration Capabilities: Basic
Has Histograms: true
Has Colormap: false
Has Multi Dimensions : false
Rendering Rule:
Min Scale: 0
Max Scale: 0
Copyright Text:
Service Data Type: esriImageServiceDataTypeRGB
Min Values: 0, 0, 0
Max Values: 255, 255, 255
Mean Values: 100.30220029715, 95.869531555768, 89.384422177384
Standard Deviation Values: 75.927998983307, 73.318674120327, 70.034020151203
Object ID Field:
Fields:
None
Default Mosaic Method: Center
Allowed Mosaic Methods:
SortField:
SortValue: null
Mosaic Operator: First
Default Compression Quality: 75
Default Resampling Method: Bilinear
Max Record Count: null
Max Image Height: 4100
Max Image Width: 15000
Max Download Image Count: null
Max Mosaic Image Count: null
Allow Raster Function: true
Allow Compute TiePoints: false
Supports Statistics: false
Supports Advanced Queries: false
Use StandardizedQueries: true
Raster Type Infos:
Name: Raster Dataset
Description: Supports all ArcGIS Raster Datasets
Help:
Has Raster Attribute Table: false
Edit Fields Info: null
Ownership Based AccessControl For Rasters: null
Child Resources:
Info
Histograms
Key Properties
Legend
MultiDimensionalInfo
rasterFunctionInfos
Supported Operations:
Export Image
Identify
Measure
Compute Histograms
Compute Statistics Histograms
Get Samples
Compute Class Statistics